BEGIN:VCALENDAR
VERSION:2.0
PRODID:-//Stress Reduction Resources - ECPv5.8.0//NONSGML v1.0//EN
CALSCALE:GREGORIAN
METHOD:PUBLISH
X-WR-CALNAME:Stress Reduction Resources
X-ORIGINAL-URL:https://stressreductionresources.com
X-WR-CALDESC:Events for Stress Reduction Resources
BEGIN:VTIMEZONE
TZID:UTC
BEGIN:STANDARD
TZOFFSETFROM:+0000
TZOFFSETTO:+0000
TZNAME:UTC
DTSTART:20230101T000000
END:STANDARD
END:VTIMEZONE
BEGIN:VEVENT
DTSTART;TZID=UTC:20230322T190000
DTEND;TZID=UTC:20230322T201500
DTSTAMP:20260421T023712
CREATED:20230301T205109Z
LAST-MODIFIED:20230301T205109Z
UID:1490-1679511600-1679516100@stressreductionresources.com
SUMMARY:Anxiety and Insomnia Relief with Effortless Meditation™
DESCRIPTION:This meditation technique is recommended by physicians as a key to self-care. Gain relief from – insomnia\, high blood pressure\, depression\, anxiety\, fatigue\, brain fog\, OCD\, and more. FREE Introduction\, LIVE ONLINE Video Conference\, Pre-register 610.670.6700
URL:https://stressreductionresources.com/event/anxiety-and-insomnia-relief-with-effortless-meditation-3
LOCATION:Zoom – Online Video Conference\, United States
END:VEVENT
END:VCALENDAR