BEGIN:VCALENDAR
VERSION:2.0
PRODID:-//Stress Reduction Resources - ECPv5.8.0//NONSGML v1.0//EN
CALSCALE:GREGORIAN
METHOD:PUBLISH
X-WR-CALNAME:Stress Reduction Resources
X-ORIGINAL-URL:https://stressreductionresources.com
X-WR-CALDESC:Events for Stress Reduction Resources
BEGIN:VTIMEZONE
TZID:UTC
BEGIN:STANDARD
TZOFFSETFROM:+0000
TZOFFSETTO:+0000
TZNAME:UTC
DTSTART:20240101T000000
END:STANDARD
END:VTIMEZONE
BEGIN:VEVENT
DTSTART;TZID=UTC:20240925T190000
DTEND;TZID=UTC:20240925T201500
DTSTAMP:20260420T082141
CREATED:20240830T165555Z
LAST-MODIFIED:20240830T165555Z
UID:1732-1727290800-1727295300@stressreductionresources.com
SUMMARY:Anxiety and Stress Relief with Effortless Meditation™
DESCRIPTION:Physicians recommend this meditation technique as a key to self-care. Gain relief from – insomnia\, high blood pressure\, depression\, anxiety\, fatigue\, brain fog\, OCD\, and more. FREE Introduction\, Stress Reduction Resources\, Curtis Rd.\, Sinking Spring\, PA\, Greg Schweitzer\, D.Ay\, Pre-register 610-670-6700.
URL:https://stressreductionresources.com/event/anxiety-and-stress-relief-with-effortless-meditation-46
LOCATION:Stress Reduction Resources\, Curtis Rd.\, Sinking Spring\, PA
END:VEVENT
END:VCALENDAR