BEGIN:VCALENDAR
VERSION:2.0
PRODID:-//Stress Reduction Resources - ECPv5.8.0//NONSGML v1.0//EN
CALSCALE:GREGORIAN
METHOD:PUBLISH
X-WR-CALNAME:Stress Reduction Resources
X-ORIGINAL-URL:https://stressreductionresources.com
X-WR-CALDESC:Events for Stress Reduction Resources
BEGIN:VTIMEZONE
TZID:UTC
BEGIN:STANDARD
TZOFFSETFROM:+0000
TZOFFSETTO:+0000
TZNAME:UTC
DTSTART:20240101T000000
END:STANDARD
END:VTIMEZONE
BEGIN:VEVENT
DTSTART;TZID=UTC:20241211T183000
DTEND;TZID=UTC:20241211T194500
DTSTAMP:20260420T094249
CREATED:20241126T135334Z
LAST-MODIFIED:20241126T135334Z
UID:1762-1733941800-1733946300@stressreductionresources.com
SUMMARY:Anxiety and Stress Relief with Effortless Meditation™
DESCRIPTION:Anxiety and Stress Relief with Effortless Meditation™ – 6:30 – 7:45 pm.  Physicians recommend this meditation technique as a key to self-care. Gain relief from – insomnia\, high blood pressure\, depression\, anxiety\, fatigue\, brain fog\, OCD\, and more. FREE Introduction\, Twin Ponds Holistic Health\, West LV – Breinigsville\, Greg Schweitzer\, D.Ay\, Pre-register\, 610-670-6700.
URL:https://stressreductionresources.com/event/anxiety-and-stress-relief-with-effortless-meditation-51
LOCATION:Twin Ponds Holistic Health Center\, West LV – Breinigsville
END:VEVENT
END:VCALENDAR