BEGIN:VCALENDAR
VERSION:2.0
PRODID:-//Stress Reduction Resources - ECPv5.8.0//NONSGML v1.0//EN
CALSCALE:GREGORIAN
METHOD:PUBLISH
X-WR-CALNAME:Stress Reduction Resources
X-ORIGINAL-URL:https://stressreductionresources.com
X-WR-CALDESC:Events for Stress Reduction Resources
BEGIN:VTIMEZONE
TZID:UTC
BEGIN:STANDARD
TZOFFSETFROM:+0000
TZOFFSETTO:+0000
TZNAME:UTC
DTSTART:20200101T000000
END:STANDARD
END:VTIMEZONE
BEGIN:VEVENT
DTSTART;TZID=UTC:20200603T110000
DTEND;TZID=UTC:20200603T123000
DTSTAMP:20260420T094542
CREATED:20200507T193936Z
LAST-MODIFIED:20200507T194005Z
UID:986-1591182000-1591187400@stressreductionresources.com
SUMMARY:Anxiety & Stress Relief with Effortless Meditation™  
DESCRIPTION:Date & Time: Wednesday\, June 3 – 11:00 am to 12:30 pm\n\nPhysicians and therapists recommend EM as a key for self-care because it relieves chronic stress\, insomnia\, high blood pressure\, anxiety\, and depression. While at the same time fatigue\, brain fog\, pain\, and worries fade.\n \nONLINE LIVE Video Conference\, Pre-register\, Call 610-670-6700 \n 
URL:https://stressreductionresources.com/event/anxiety
END:VEVENT
END:VCALENDAR