BEGIN:VCALENDAR
VERSION:2.0
PRODID:-//Stress Reduction Resources - ECPv5.8.0//NONSGML v1.0//EN
CALSCALE:GREGORIAN
METHOD:PUBLISH
X-WR-CALNAME:Stress Reduction Resources
X-ORIGINAL-URL:https://stressreductionresources.com
X-WR-CALDESC:Events for Stress Reduction Resources
BEGIN:VTIMEZONE
TZID:UTC
BEGIN:STANDARD
TZOFFSETFROM:+0000
TZOFFSETTO:+0000
TZNAME:UTC
DTSTART:20230101T000000
END:STANDARD
END:VTIMEZONE
BEGIN:VEVENT
DTSTART;TZID=UTC:20230214T120000
DTEND;TZID=UTC:20230214T130000
DTSTAMP:20260423T095941
CREATED:20230118T201924Z
LAST-MODIFIED:20230118T202930Z
UID:1463-1676376000-1676379600@stressreductionresources.com
SUMMARY:Brain and Heart Health with Effortless Meditation™
DESCRIPTION:This meditation technique is recommended by physicians as a key to self-care. Gain relief from – insomnia\, high blood pressure\, depression\, anxiety\, fatigue\, brain fog\, OCD\, and more. FREE Introduction\, LIVE ONLINE Video Conference\, Pre-register 610.670.6700
URL:https://stressreductionresources.com/event/brain-and-heart-health-with-effortless-meditation-4
LOCATION:Zoom – Online Video Conference
END:VEVENT
END:VCALENDAR