BEGIN:VCALENDAR
VERSION:2.0
PRODID:-//Stress Reduction Resources - ECPv5.8.0//NONSGML v1.0//EN
CALSCALE:GREGORIAN
METHOD:PUBLISH
X-WR-CALNAME:Stress Reduction Resources
X-ORIGINAL-URL:https://stressreductionresources.com
X-WR-CALDESC:Events for Stress Reduction Resources
BEGIN:VTIMEZONE
TZID:UTC
BEGIN:STANDARD
TZOFFSETFROM:+0000
TZOFFSETTO:+0000
TZNAME:UTC
DTSTART:20230101T000000
END:STANDARD
END:VTIMEZONE
BEGIN:VEVENT
DTSTART;TZID=UTC:20231227T190000
DTEND;TZID=UTC:20231227T201500
DTSTAMP:20260421T095238
CREATED:20231103T201337Z
LAST-MODIFIED:20231103T201337Z
UID:1619-1703703600-1703708100@stressreductionresources.com
SUMMARY:Depression and Anxiety Relief with Effortless Meditation™
DESCRIPTION:This meditation technique is recommended by physicians as a key to self-care. Gain relief from – insomnia\, high blood pressure\, depression\, anxiety\, fatigue\, brain fog\, OCD\, and more. FREE Introduction\, LIVE ONLINE Zoom Conference\, Pre-register 610.670.6700
URL:https://stressreductionresources.com/event/depression-and-anxiety-relief-with-effortless-meditation
LOCATION:Zoom – Online Video Conference
ORGANIZER;CN="Greg%20Schweitzer":MAILTO:greg@StressReductionResources.com
END:VEVENT
END:VCALENDAR