BEGIN:VCALENDAR
VERSION:2.0
PRODID:-//Stress Reduction Resources - ECPv5.8.0//NONSGML v1.0//EN
CALSCALE:GREGORIAN
METHOD:PUBLISH
X-WR-CALNAME:Stress Reduction Resources
X-ORIGINAL-URL:https://stressreductionresources.com
X-WR-CALDESC:Events for Stress Reduction Resources
BEGIN:VTIMEZONE
TZID:UTC
BEGIN:STANDARD
TZOFFSETFROM:+0000
TZOFFSETTO:+0000
TZNAME:UTC
DTSTART:20200101T000000
END:STANDARD
END:VTIMEZONE
BEGIN:VEVENT
DTSTART;TZID=UTC:20200624T190000
DTEND;TZID=UTC:20200624T203000
DTSTAMP:20260420T172952
CREATED:20200507T194341Z
LAST-MODIFIED:20200507T194341Z
UID:994-1593025200-1593030600@stressreductionresources.com
SUMMARY:Heart Health & Stress Relief with Effortless Meditation™ 
DESCRIPTION:Date & Time: Wednesday\, June 24 – 7:00 to 8:30 pm \nPhysicians and therapists recommend EM as a key for self-care because it relieves chronic stress\, insomnia\, high blood pressure\, anxiety\, and depression. While at the same time fatigue\, brain fog\, pain\, and worries fade. \nONLINE LIVE Video Conference\, Pre-register\, Call 610-670-6700
URL:https://stressreductionresources.com/event/heart-health-2
END:VEVENT
END:VCALENDAR