BEGIN:VCALENDAR
VERSION:2.0
PRODID:-//Stress Reduction Resources - ECPv5.8.0//NONSGML v1.0//EN
CALSCALE:GREGORIAN
METHOD:PUBLISH
X-WR-CALNAME:Stress Reduction Resources
X-ORIGINAL-URL:https://stressreductionresources.com
X-WR-CALDESC:Events for Stress Reduction Resources
BEGIN:VTIMEZONE
TZID:UTC
BEGIN:STANDARD
TZOFFSETFROM:+0000
TZOFFSETTO:+0000
TZNAME:UTC
DTSTART:20200101T000000
END:STANDARD
END:VTIMEZONE
BEGIN:VEVENT
DTSTART;TZID=UTC:20200812T190000
DTEND;TZID=UTC:20200812T203000
DTSTAMP:20260420T224052
CREATED:20200629T165248Z
LAST-MODIFIED:20200701T130219Z
UID:1048-1597258800-1597264200@stressreductionresources.com
SUMMARY:Heart Health & Stress Relief with Effortless Meditation™ 
DESCRIPTION:LIVE at Twin Ponds Integrative Health Center\, Pre-register\, Call 610-670-6700 \nPhysicians and therapists recommend EM as a key for self-care because it relieves chronic stress\, insomnia\, high blood pressure\, anxiety\, and depression. While at the same time fatigue\, brain fog\, pain\, and worries fade. Attend this FREE INTRODUCTION to learn more. Pre-registration required\, thanks. \n 
URL:https://stressreductionresources.com/event/heart-health-3
LOCATION:Twin Ponds Integrative Health Center\, 628 Twin Ponds Rd\, Breinigsville\, PA\, 18031\, United States
END:VEVENT
END:VCALENDAR