BEGIN:VCALENDAR
VERSION:2.0
PRODID:-//Stress Reduction Resources - ECPv5.8.0//NONSGML v1.0//EN
CALSCALE:GREGORIAN
METHOD:PUBLISH
X-WR-CALNAME:Stress Reduction Resources
X-ORIGINAL-URL:https://stressreductionresources.com
X-WR-CALDESC:Events for Stress Reduction Resources
BEGIN:VTIMEZONE
TZID:UTC
BEGIN:STANDARD
TZOFFSETFROM:+0000
TZOFFSETTO:+0000
TZNAME:UTC
DTSTART:20200101T000000
END:STANDARD
END:VTIMEZONE
BEGIN:VEVENT
DTSTART;TZID=UTC:20200624T130000
DTEND;TZID=UTC:20200624T131500
DTSTAMP:20260420T160928
CREATED:20210524T155504Z
LAST-MODIFIED:20210524T155531Z
UID:1211-1593003600-1593004500@stressreductionresources.com
SUMMARY:Heart Health & Stress Relief with Effortless Meditation™ 
DESCRIPTION:Date & Time: Wednesday\, June 24 – 1:00 to 2:15 pm \nPhysicians and therapists recommend EM as a key for self-care because it relieves chronic stress\, insomnia\, high blood pressure\, anxiety\, and depression. While at the same time fatigue\, brain fog\, pain\, and worries fade. \nONLINE LIVE Video Conference\, Pre-register\, Call 610-670-6700
URL:https://stressreductionresources.com/event/heart-health-stress-relief-with-effortless-meditation-3
END:VEVENT
END:VCALENDAR