BEGIN:VCALENDAR
VERSION:2.0
PRODID:-//Stress Reduction Resources - ECPv5.8.0//NONSGML v1.0//EN
CALSCALE:GREGORIAN
METHOD:PUBLISH
X-WR-CALNAME:Stress Reduction Resources
X-ORIGINAL-URL:https://stressreductionresources.com
X-WR-CALDESC:Events for Stress Reduction Resources
BEGIN:VTIMEZONE
TZID:UTC
BEGIN:STANDARD
TZOFFSETFROM:+0000
TZOFFSETTO:+0000
TZNAME:UTC
DTSTART:20230101T000000
END:STANDARD
END:VTIMEZONE
BEGIN:VEVENT
DTSTART;TZID=UTC:20230919T120000
DTEND;TZID=UTC:20230919T131500
DTSTAMP:20260419T115313
CREATED:20230825T130923Z
LAST-MODIFIED:20230825T131110Z
UID:1595-1695124800-1695129300@stressreductionresources.com
SUMMARY:Stress Relief and Heart Health with Effortless Meditation™
DESCRIPTION:This meditation technique is recommended by physicians as a key to self-care. Gain relief from – insomnia\, high blood pressure\, depression\, anxiety\, fatigue\, brain fog\, OCD\, and more. FREE Introduction\, LIVE ONLINE ZOOM Conference\, Pre-register 610.670.6700
URL:https://stressreductionresources.com/event/stress-relief-and-heart-health-with-effortless-meditation-3
LOCATION:Zoom – Online Video Conference
END:VEVENT
END:VCALENDAR